BEGIN:VCALENDAR
PRODID:-//eluceo/ical//2.0/EN
VERSION:2.0
CALSCALE:GREGORIAN
BEGIN:VEVENT
UID:76900f86d402b0569dcc63a997915501
DTSTAMP:20260424T070143Z
SUMMARY:Märchenlesung und Texte aus dem Lerncafé im Friedrich-Reinsch-Hau
 s
DESCRIPTION:Deutsch-Russische Märchenlesung mit Kaffee und Kuchen - das Le
 rncafé GRUBISO stellt sich vor und lädt zum Mitmachen ein.\nHomepage Mil
 anhorstHomepage Grubiso
URL:https://kultur-fuer-jeden.de/de/veranstaltung/maerchenlesung-und-texte-
 aus-dem-lerncafe-im-friedrich-reinsch-haus/
DTSTART:20210912T140000
DTEND:20210912T180000
LOCATION:Friedrich-Reinsch-Haus / Barrierefrei
END:VEVENT
BEGIN:VTIMEZONE
TZID:Europe/Berlin
BEGIN:DAYLIGHT
DTSTART:20210912T140000
TZNAME:CEST
TZOFFSETTO:+0200
TZOFFSETFROM:+0200
END:DAYLIGHT
END:VTIMEZONE
END:VCALENDAR
