BEGIN:VCALENDAR
PRODID:-//eluceo/ical//2.0/EN
VERSION:2.0
CALSCALE:GREGORIAN
BEGIN:VEVENT
UID:d069a50d2162cbf7718e72b0927182c0
DTSTAMP:20260420T225642Z
SUMMARY:Kultur-Frühstück mit Musik von und mit Sylvia Swierkowski und Tan
 zprogramm der Tanzakademie Erxleben
DESCRIPTION:\nBürgerhaus am Schlaatz = kostenfreies Kultur-Frühstück fü
 r Klein und Groß\nKulinarisches trifft auf Musik mit der Liedermacherin S
 ylvia Swierkowski und auf ein buntes Programm verschiedener Tanzrichtungen
  der Tanzakademie Erxleben\nGute Laune und Geschirr kann gerne mitgebracht
  werden\n\nGesundes Frühstück und Kultur zum Mitmachen - mitten am Schla
 atz! Beim Kultur-Stadtteilfrühstück gibt es ab 10:00 Uhr Tänzer*innen d
 er Tanzakademie Erxleben zu erleben. Im Anschluss singt die Liedermacherin
  Sylvia Swierkowski mit Überraschungsgästen Lieblingslieder im öffentli
 chen Raum. Bringen Sie Ihre Wunsch- und Lieblingslieder mit oder gar ihr e
 igenes Instrument! In angenehmer Stimmung auf der Wiese vor dem Bürgerhau
 s am Schlaatz haben wir Zeit zum gemeinsamen Musizieren\, Quatschen und Na
 schen und können uns an dem kostenfreien Kultur-Frühstück laben.
URL:https://kultur-fuer-jeden.de/de/veranstaltung/kultur-fruehstueck-mit-mu
 sik-von-und-mit-sylvia-swierkowski-und-tanzprogramm-der-tanzakademie-erxle
 ben/
DTSTART:20220911T100000
DTEND:20220911T120000
LOCATION:Bürgerhaus am Schlaatz\, großer Saal / Barierrefrei
END:VEVENT
BEGIN:VTIMEZONE
TZID:Europe/Berlin
BEGIN:DAYLIGHT
DTSTART:20220911T100000
TZNAME:CEST
TZOFFSETTO:+0200
TZOFFSETFROM:+0200
END:DAYLIGHT
END:VTIMEZONE
END:VCALENDAR
