BEGIN:VCALENDAR
PRODID:-//eluceo/ical//2.0/EN
VERSION:2.0
CALSCALE:GREGORIAN
BEGIN:VEVENT
UID:9cb21ccdc29e106d3a4c46b6cac546fd
DTSTAMP:20260420T210435Z
SUMMARY:Kaffeeklatsch mit Akkordeonmusik im Bürgertreff Waldstadt
DESCRIPTION:Beim gemütlichen Kaffeeklatsch kann Isabel Neuenfeldt gelausch
 t werden\, die mit ihrem Akkordeon zum besinnlichen Zuhören oder Mitsinge
 n vorträgt. Die laufende Ausstellung "Landschaften-so wie ich sie empfind
 e" lädt zum Ansehen und Träumen ein.
URL:https://kultur-fuer-jeden.de/de/veranstaltung/kaffeeklatsch-mit-akkorde
 onmusik-im-buergertreff-waldstadt/
DTSTART:20220911T150000
DTEND:20220911T170000
LOCATION:Bürgertreff Waldstadt / Barrierefrei
END:VEVENT
BEGIN:VTIMEZONE
TZID:Europe/Berlin
BEGIN:DAYLIGHT
DTSTART:20220911T150000
TZNAME:CEST
TZOFFSETTO:+0200
TZOFFSETFROM:+0200
END:DAYLIGHT
END:VTIMEZONE
END:VCALENDAR
