BEGIN:VCALENDAR
PRODID:-//eluceo/ical//2.0/EN
VERSION:2.0
CALSCALE:GREGORIAN
BEGIN:VEVENT
UID:b7eaedd6873c4cc5776f55855b4e0914
DTSTAMP:20260423T085832Z
SUMMARY:Forum für Kunst und Geschichte
DESCRIPTION:Wer Potsdam kennenlernen möchte\, fängt beim Potsdam Museum -
  Forum für Kunst und Geschichte an. Hier wird die über 1000jährige Stad
 tgeschichte präsentiert. Gemälde\, Möbel\, Uniformen\, Fotografien u.a.
  sowie moderne Medienstationen zeichnen ein spannendes Bild Potsdams von d
 en Anfängen als unbedeutendes Nest im Mittelalter über die barocke Resid
 enzstadt bis zur Gegenwart. In der aktuellen Sonderausstellung „Potsdam 
 unterm Roten Stern. Hinterlassenschaften der sowjetischen Besatzungsmacht 
 1945 bis 1994“ wird 25 Jahre nach dem Abzug der ehemals sowjetischen Tru
 ppen aus Potsdam\, erstmals eine Auswahl von über 1.500 Fundstücken aus 
 den Kasernen zu sehen sein. Die Ausstellung wirft einen Blick hinter die M
 auern von Stadtteilen und Kasernen\, die fast ein halbes Jahrhundert für 
 die Bevölkerung nicht öffentlich zugänglich waren.
URL:https://kultur-fuer-jeden.de/de/veranstaltung/forum-fuer-kunst-und-gesc
 hichte/
DTSTART:20190901T100000
DTEND:20190901T180000
LOCATION:Forum für Kunst und Geschichte
END:VEVENT
BEGIN:VTIMEZONE
TZID:Europe/Berlin
BEGIN:DAYLIGHT
DTSTART:20190901T100000
TZNAME:CEST
TZOFFSETTO:+0200
TZOFFSETFROM:+0200
END:DAYLIGHT
END:VTIMEZONE
END:VCALENDAR
