BEGIN:VCALENDAR
PRODID:-//eluceo/ical//2.0/EN
VERSION:2.0
CALSCALE:GREGORIAN
BEGIN:VEVENT
UID:ccacfa58b84b6df0d08db7bbfbed1dd4
DTSTAMP:20260424T090350Z
SUMMARY:Eröffnung mit Lachyoga im Treffpunkt Freizeit
DESCRIPTION:Eröffnung: Lachyoga mit Anne Ludwig\nLachend starten wir in ei
 nen ganzen Tag voller Kultur für JEDE*N!\nWir treffen uns im Garten des T
 reffpunkt Freizeit und werden nach einer kurzen Einführung ins Thema Lach
 yoga gemeinsam Lach- und Atemübungen durchführen. Diese aktivieren und h
 eben die Stimmung\, sodass jede*r danach sicherlich hoch motiviert ist\, a
 n vielen Veranstaltungen teilzunehmen.\nLachyoga ist absolut genial\, weil
  es wirklich für ALLE ist - Große und Kleine\, Junge und Alte\, Dicke un
 d Dünne.\n \nBequeme Kleidung und Getränke bitte mitbringen!
URL:https://kultur-fuer-jeden.de/de/veranstaltung/eroeffnung-mit-lachyoga-i
 m-treffpunkt-freizeit/
DTSTART:20220911T093000
DTEND:20220911T093000
LOCATION:Treffpunkt Freizeit / Barrierefrei / Draußen - Veranstaltung im G
 arten des Treffpunkt Freizeit
END:VEVENT
BEGIN:VTIMEZONE
TZID:Europe/Berlin
BEGIN:DAYLIGHT
DTSTART:20220911T093000
TZNAME:CEST
TZOFFSETTO:+0200
TZOFFSETFROM:+0200
END:DAYLIGHT
END:VTIMEZONE
END:VCALENDAR
